BEGIN:VCALENDAR
VERSION:2.0
PRODID:-//numérique - ECPv6.15.15//NONSGML v1.0//EN
CALSCALE:GREGORIAN
METHOD:PUBLISH
X-WR-CALNAME:numérique
X-ORIGINAL-URL:https://numerique.umontpellier.fr
X-WR-CALDESC:Évènements pour numérique
REFRESH-INTERVAL;VALUE=DURATION:PT1H
X-Robots-Tag:noindex
X-PUBLISHED-TTL:PT1H
BEGIN:VTIMEZONE
TZID:Europe/Paris
BEGIN:DAYLIGHT
TZOFFSETFROM:+0100
TZOFFSETTO:+0200
TZNAME:CEST
DTSTART:20220327T010000
END:DAYLIGHT
BEGIN:STANDARD
TZOFFSETFROM:+0200
TZOFFSETTO:+0100
TZNAME:CET
DTSTART:20221030T010000
END:STANDARD
BEGIN:DAYLIGHT
TZOFFSETFROM:+0100
TZOFFSETTO:+0200
TZNAME:CEST
DTSTART:20230326T010000
END:DAYLIGHT
BEGIN:STANDARD
TZOFFSETFROM:+0200
TZOFFSETTO:+0100
TZNAME:CET
DTSTART:20231029T010000
END:STANDARD
BEGIN:DAYLIGHT
TZOFFSETFROM:+0100
TZOFFSETTO:+0200
TZNAME:CEST
DTSTART:20240331T010000
END:DAYLIGHT
BEGIN:STANDARD
TZOFFSETFROM:+0200
TZOFFSETTO:+0100
TZNAME:CET
DTSTART:20241027T010000
END:STANDARD
END:VTIMEZONE
BEGIN:VEVENT
DTSTART;TZID=Europe/Paris:20231212T160000
DTEND;TZID=Europe/Paris:20231212T170000
DTSTAMP:20260425T145438
CREATED:20231106T151056Z
LAST-MODIFIED:20231106T151259Z
UID:10000070-1702396800-1702400400@numerique.umontpellier.fr
SUMMARY:Formation ouverte Wooclap
DESCRIPTION:Formation en ligne Wooclap dispensée par la société éditrice du logiciel \nPublic \nEnseignants \nObjectifs pédagogiques \n\ndécouvrir Wooclap et les types de questions\nêtre capable de créer des ressources via l’application\n\nInscriptions et informations \nS’inscrire
URL:https://numerique.umontpellier.fr/evenement/formation-ouverte-wooclap-decembre/
CATEGORIES:Formation,Pédagogie numérique,Personnels enseignants, enseignants-chercheurs et chercheurs
END:VEVENT
BEGIN:VEVENT
DTSTART;TZID=Europe/Paris:20231114T160000
DTEND;TZID=Europe/Paris:20231114T170000
DTSTAMP:20260425T145438
CREATED:20231106T150929Z
LAST-MODIFIED:20231106T151328Z
UID:10000069-1699977600-1699981200@numerique.umontpellier.fr
SUMMARY:Formation ouverte Wooclap
DESCRIPTION:Formation en ligne Wooclap dispensée par la société éditrice du logiciel \nPublic \nEnseignants \nObjectifs pédagogiques \n\ndécouvrir Wooclap et les types de questions\nêtre capable de créer des ressources via l’application\n\nInscriptions et informations \nS’inscrire
URL:https://numerique.umontpellier.fr/evenement/formation-ouverte-wooclap-novembre/
CATEGORIES:Formation,Pédagogie numérique,Personnels enseignants, enseignants-chercheurs et chercheurs
END:VEVENT
BEGIN:VEVENT
DTSTART;TZID=Europe/Paris:20231019T170000
DTEND;TZID=Europe/Paris:20231019T180000
DTSTAMP:20260425T145438
CREATED:20231003T140806Z
LAST-MODIFIED:20231003T140848Z
UID:10000068-1697734800-1697738400@numerique.umontpellier.fr
SUMMARY:Formation Wooclap intermédiaire
DESCRIPTION:Formation en ligne Wooclap dispensée par la société éditrice du logiciel \nPublic \nEnseignants \nNiveau \nIntermédiaire \nObjectifs pédagogiques \n\ndécouvrir les paramètres avancés de Wooclap\nêtre capable de créer des ressources via l’application\n\nInscriptions et informations \nS’inscrire
URL:https://numerique.umontpellier.fr/evenement/formation-wooclap-intermediaire/
CATEGORIES:Formation,Pédagogie numérique,Personnels enseignants, enseignants-chercheurs et chercheurs
END:VEVENT
BEGIN:VEVENT
DTSTART;TZID=Europe/Paris:20231012T170000
DTEND;TZID=Europe/Paris:20231012T180000
DTSTAMP:20260425T145438
CREATED:20231003T140513Z
LAST-MODIFIED:20231003T140923Z
UID:10000067-1697130000-1697133600@numerique.umontpellier.fr
SUMMARY:Formation ouverte Wooclap débutant
DESCRIPTION:Formation en ligne Wooclap dispensée par la société éditrice du logiciel \nPublic \nEnseignants \nNiveau \nDébutant \nObjectifs pédagogiques \n\ndécouvrir Wooclap et les types de questions\nêtre capable de créer des ressources via l’application\n\nInscriptions et informations \nS’inscrire
URL:https://numerique.umontpellier.fr/evenement/formation-ouverte-wooclap/
CATEGORIES:Formation,Pédagogie numérique,Personnels enseignants, enseignants-chercheurs et chercheurs
END:VEVENT
BEGIN:VEVENT
DTSTART;TZID=Europe/Paris:20231010T160000
DTEND;TZID=Europe/Paris:20231010T170000
DTSTAMP:20260425T145438
CREATED:20231003T135849Z
LAST-MODIFIED:20231003T140954Z
UID:10000066-1696953600-1696957200@numerique.umontpellier.fr
SUMMARY:Formation Wooclap débutant
DESCRIPTION:Formation en ligne Wooclap dispensée par la société éditrice du logiciel \nNiveau \nDébutant \nObjectifs pédagogiques \n\ndécouvrir Wooclap et les types de questions\nêtre capable de créer des ressources via l’application\n\nInscriptions et informations \nS’inscrire
URL:https://numerique.umontpellier.fr/evenement/25856/
CATEGORIES:Formation,Pédagogie numérique,Personnels administratifs et techniques,Personnels enseignants, enseignants-chercheurs et chercheurs
END:VEVENT
BEGIN:VEVENT
DTSTART;TZID=Europe/Paris:20231004T170000
DTEND;TZID=Europe/Paris:20231004T180000
DTSTAMP:20260425T145438
CREATED:20230927T153632Z
LAST-MODIFIED:20231003T084559Z
UID:10000064-1696438800-1696442400@numerique.umontpellier.fr
SUMMARY:Formation Wooflash
DESCRIPTION:Formation en ligne Wooflash dispensée par la société éditrice du logiciel \nObjectifs pédagogiques \n\ndécouvrir Wooflash et des cas d’usages\nêtre capable de créer des ressources via l’application\n\nInscriptions et informations \nS’inscrire \n 
URL:https://numerique.umontpellier.fr/evenement/formation-wooflash-2/
LOCATION:Formation en ligne
CATEGORIES:Formation,Pédagogie numérique,Personnels administratifs et techniques,Personnels enseignants, enseignants-chercheurs et chercheurs
END:VEVENT
END:VCALENDAR