BEGIN:VCALENDAR
VERSION:2.0
PRODID:-//numérique - ECPv6.15.15//NONSGML v1.0//EN
CALSCALE:GREGORIAN
METHOD:PUBLISH
X-WR-CALNAME:numérique
X-ORIGINAL-URL:https://numerique.umontpellier.fr
X-WR-CALDESC:Évènements pour numérique
REFRESH-INTERVAL;VALUE=DURATION:PT1H
X-Robots-Tag:noindex
X-PUBLISHED-TTL:PT1H
BEGIN:VTIMEZONE
TZID:Europe/Paris
BEGIN:DAYLIGHT
TZOFFSETFROM:+0100
TZOFFSETTO:+0200
TZNAME:CEST
DTSTART:20230326T010000
END:DAYLIGHT
BEGIN:STANDARD
TZOFFSETFROM:+0200
TZOFFSETTO:+0100
TZNAME:CET
DTSTART:20231029T010000
END:STANDARD
BEGIN:DAYLIGHT
TZOFFSETFROM:+0100
TZOFFSETTO:+0200
TZNAME:CEST
DTSTART:20240331T010000
END:DAYLIGHT
BEGIN:STANDARD
TZOFFSETFROM:+0200
TZOFFSETTO:+0100
TZNAME:CET
DTSTART:20241027T010000
END:STANDARD
BEGIN:DAYLIGHT
TZOFFSETFROM:+0100
TZOFFSETTO:+0200
TZNAME:CEST
DTSTART:20250330T010000
END:DAYLIGHT
BEGIN:STANDARD
TZOFFSETFROM:+0200
TZOFFSETTO:+0100
TZNAME:CET
DTSTART:20251026T010000
END:STANDARD
END:VTIMEZONE
BEGIN:VEVENT
DTSTART;VALUE=DATE:20241119
DTEND;VALUE=DATE:20241120
DTSTAMP:20260424T033229
CREATED:20240702T141008Z
LAST-MODIFIED:20241010T073755Z
UID:28729-1731974400-1732060799@numerique.umontpellier.fr
SUMMARY:SPOC : Créer ses vidéos pédagogiques (du 19/11/2024 au 31/01/2025)
DESCRIPTION:Inscription : ENT / GeForp \nDéroulement : du 19/11/2024 au 31/01/2025 en format hybride : 10 distanciel + 1 matinée présentiel \nUn SPOC est une formation se déroulant en ligne\, en petit comité\, de format hybride (alternant phase synchrone et asynchrone\, présentiel et distanciel). Vous aurez accès à des contenus pédagogiques à consulter en autonomie et l’équipe des ingénieurs pédagogiques et audiovisuels du SUN vous accompagnera à travers des propositions d’activités et de rencontres en ligne ou présentiel. \nCette formation est considérée avoir une durée de 8h réparties sur 10 semaines. \nA l’issue de votre formation\, vous aurez créé une vidéo pédagogique. \n  \nObjectifs \n\nSavoir pourquoi utiliser une vidéo pédagogique pour son enseignement\nSavoir scénariser des vidéos avec une base « powerpoints sonorisés »\nSavoir utiliser des outils de screencast pour les démonstrations dans mon enseignement\nAdapter le type de vidéos à son projet\nS’initier au tournage et au montage des vidéos pédagogiques (en studio ou autre)\nConnaître les outils de diffusion des vidéos à l’UM\n\nProgramme \nLa formation s’appuie sur un parcours d’auto-formation sur Moodle « Créer des vidéos pédagogiques » qui sera durant la période de la formation\, animé / accompagné par nos ingénieurs pédagogiques et audiovisuels. \nAu cours de ce parcours\, une formation présentielle d’une matinée (12/12/24) permet de s’initier de façon pratique à la conception d’une vidéo dans notre studio. \nLe programme du parcours : \n\npourquoi faire une vidéo pédagogique et la scénariser\nfaire des vidéos simples avec vos outils habituels (présentations sonorisées\, visioconférence détournée\, screencast)\ninitiation tournage / montage pour de vidéos plus élaborés\ndiffuser sa première vidéo sur les outils UM\n\nPrérequis \n\npour le montage vidéo : un ordinateur avec une mémoire suffisante (4Go) et supportant des logiciels de montage\ndisposer d’un logiciel de montage ou avoir les droits d’administration pour installer l un logiciel de montage (voir auprès du SCSI)\ndisposer une suite office installée (avec ppt)\n\nAvoir répondu au questionnaire suivant au moment de votre inscription : https://app.smartsheet.com/b/form/e47c831908ee49b483832fcc26dd45c8 \nPublic : enseignants-chercheurs\, ingénieurs pédagogiques\, Chargés de communication dans les directions et composantes\, personnels administration souhaitant mettre en place des parcours de formation sur les outils métiers. \n\nNombre d’inscrits maximum : 10
URL:https://numerique.umontpellier.fr/evenement/spoc-video-pedagogiques-du-19-11-2024-au-31-01-2025/
LOCATION:Formation Hybride
CATEGORIES:Formation,Pédagogie numérique,Personnels enseignants, enseignants-chercheurs et chercheurs
END:VEVENT
END:VCALENDAR